BEGIN:VCALENDAR
VERSION:2.0
PRODID:-//ChamberMaster//Event Calendar 2.0//EN
METHOD:PUBLISH
X-PUBLISHED-TTL:P3D
REFRESH-INTERVAL:P3D
CALSCALE:GREGORIAN
BEGIN:VEVENT
DTSTART:20191022T150000Z
DTEND:20191022T160000Z
X-MICROSOFT-CDO-ALLDAYEVENT:FALSE
SUMMARY:Senior Coalition
DESCRIPTION:Chair: Jackie Purdy\n\nMeeting Schedule: 4th Tuesday of each month at 10:00 a.m.\n\n \n\nPlease join us for a meet and greet with new Kearney Chief of Police\, Bryan Waugh. \n\n \n\nChief Waugh will be available to answer questions and offer his insights on future plans in his new role\, and the Kearney community. Coffee and refreshments will be provided. \n\n\n\nThe purpose of the Senior Coalition is to offer monthly community education to the retired community.\n\nThis committee is open to all retired (or age of retirement) Kearney Chamber Members. To inquire about joining this group\, contact Amy Cope at acope@kearneycoc.org or join us for one of our meetings.
X-ALT-DESC;FMTTYPE=text/html:<b style="color: rgb(0\, 0\, 0)\; font-family: Helvetica\, Arial\, sans-serif\;">Chair:</b><span style="color: rgb(0\, 0\, 0)\; font-family: Helvetica\, Arial\, sans-serif\;">&nbsp\;Jackie Purdy</span><br style="color: rgb(0\, 0\, 0)\; font-family: Helvetica\, Arial\, sans-serif\;" />\n<b style="color: rgb(0\, 0\, 0)\; font-family: Helvetica\, Arial\, sans-serif\;">Meeting Schedule:</b><span style="color: rgb(0\, 0\, 0)\; font-family: Helvetica\, Arial\, sans-serif\;">&nbsp\;4th Tuesday of each month at 10:00 a.m.</span><br style="color: rgb(0\, 0\, 0)\; font-family: Helvetica\, Arial\, sans-serif\;" />\n&nbsp\;<br />\n<span style="font-weight:bold\;language:en-US\;"><span style="color:black\;"><span style="font-family:arial\;">Please join us for a meet and greet with new Kearney Chief of Police\, Bryan Waugh. </span></span></span><br />\n&nbsp\;<br />\n<span style="color:black\;"><span style="font-family:arial\;">Chief Waugh will be available to answer questions and offer his insights on future plans in his new role\, and the Kearney community.&nbsp\;Coffee and refreshments will be provided. </span></span><br />\n<br style="color: rgb(0\, 0\, 0)\; font-family: Helvetica\, Arial\, sans-serif\;" />\n<span style="color: rgb(0\, 0\, 0)\; font-family: Helvetica\, Arial\, sans-serif\;">The purpose of the Senior Coalition is to offer monthly community education to the retired community.</span><br style="color: rgb(0\, 0\, 0)\; font-family: Helvetica\, Arial\, sans-serif\;" />\n<span style="color: rgb(0\, 0\, 0)\; font-family: Helvetica\, Arial\, sans-serif\;">This committee is open to all retired (or age of retirement) Kearney Chamber Members. To inquire about joining this group\, contact Amy Cope at <a href="mailto:acope@kearneycoc.org">acope</a><a href="mailto:sschulte@kearneycoc.org">@kearneycoc.org</a></span><span style="color: rgb(0\, 0\, 0)\; font-family: Helvetica\, Arial\, sans-serif\;">&nbsp\;or join us for one of our meetings.</span>
LOCATION:Kearney Area Chamber of Commerce board room
UID:e.1404.5738
SEQUENCE:3
DTSTAMP:20260425T163826Z
URL:https://members.kearneycoc.org/events/details/senior-coalition-10-22-2019-5738
END:VEVENT

END:VCALENDAR
