BEGIN:VCALENDAR
VERSION:2.0
PRODID:-//ChamberMaster//Event Calendar 2.0//EN
METHOD:PUBLISH
X-PUBLISHED-TTL:P3D
REFRESH-INTERVAL:P3D
CALSCALE:GREGORIAN
BEGIN:VEVENT
DTSTART:20211026T150000Z
DTEND:20211026T160000Z
X-MICROSOFT-CDO-ALLDAYEVENT:FALSE
SUMMARY:Senior Coalition
DESCRIPTION:Chair: Jackie Purdy\n\nMeeting Schedule: 4th Tuesday of each month at 10:00 a.m.\n\n\n\nFor October's meeting\, we will be gathering at the Kearney Area Chamber of Commerce to learn about recent updates on County Affairs from Sherry Morrow.  Coffee & Cookies will be provided.\n\n\n\nTo view pictures and information from our last month's visit to Broadwell Kearney Senior Living\, click HERE.\n\n\n\n\n\nThe purpose of the Senior Coalition is to offer monthly community education to the retired community.\n\n\n\nThis committee is open to all retired (or age of retirement) Kearney Chamber Members. To inquire about joining this group\, contact Heather Ullman at hullman@kearneycoc.org or join us for one of our meetings.
X-ALT-DESC;FMTTYPE=text/html:<b style="color: rgb(0\, 0\, 0)\; font-family: Helvetica\, Arial\, sans-serif\;">Chair:</b><span style="color: rgb(0\, 0\, 0)\; font-family: Helvetica\, Arial\, sans-serif\;">&nbsp\;Jackie Purdy</span><br style="color: rgb(0\, 0\, 0)\; font-family: Helvetica\, Arial\, sans-serif\;" />\n<b style="color: rgb(0\, 0\, 0)\; font-family: Helvetica\, Arial\, sans-serif\;">Meeting Schedule:</b><span style="color: rgb(0\, 0\, 0)\; font-family: Helvetica\, Arial\, sans-serif\;">&nbsp\;4th Tuesday of each month at 10:00 a.m.<br />\n<br />\nFor October&#39\;s meeting\, we will be gathering at the Kearney Area Chamber of Commerce to learn about recent updates on County Affairs from Sherry Morrow.&nbsp\; Coffee &amp\; Cookies will be provided.<br />\n<br />\nTo view pictures and information from our last month&#39\;s visit to Broadwell Kearney Senior Living\, click<a href="https://www.kearneycoc.org/post/senior-coalition-tours-broadwell-senior-living"> HERE</a>.</span><br />\n<br />\n<br style="color: rgb(0\, 0\, 0)\; font-family: Helvetica\, Arial\, sans-serif\;" />\n<span style="color: rgb(0\, 0\, 0)\; font-family: Helvetica\, Arial\, sans-serif\;">The purpose of the Senior Coalition is to offer monthly community education to the retired community.</span><br style="color: rgb(0\, 0\, 0)\; font-family: Helvetica\, Arial\, sans-serif\;" />\n<br style="color: rgb(0\, 0\, 0)\; font-family: Helvetica\, Arial\, sans-serif\;" />\n<span style="color: rgb(0\, 0\, 0)\; font-family: Helvetica\, Arial\, sans-serif\;">This committee is open to all retired (or age of retirement) Kearney Chamber Members. To inquire about joining this group\, contact Heather Ullman at <a href="mailto:hullman@kearneycoc.org">hullman</a><a href="mailto:acope@kearneycoc.org">@kearneycoc.org</a>&nbsp\;</span><span style="color: rgb(0\, 0\, 0)\; font-family: Helvetica\, Arial\, sans-serif\;">or join us for one of our meetings.</span><br />\n&nbsp\;
LOCATION:Kearney Area Chamber of Commerce Boardroom
UID:e.1404.5762
SEQUENCE:3
DTSTAMP:20260423T232442Z
URL:https://members.kearneycoc.org/events/details/senior-coalition-10-26-2021-5762
END:VEVENT

END:VCALENDAR
