BEGIN:VCALENDAR
VERSION:2.0
PRODID:-//ChamberMaster//Event Calendar 2.0//EN
METHOD:PUBLISH
X-PUBLISHED-TTL:P3D
REFRESH-INTERVAL:P3D
CALSCALE:GREGORIAN
BEGIN:VEVENT
DTSTART:20210330T150000Z
DTEND:20210330T160000Z
X-MICROSOFT-CDO-ALLDAYEVENT:FALSE
SUMMARY:Senior Coalition
DESCRIPTION:Chair: Jackie Purdy\n\nMeeting Schedule: 4th Tuesday of each month at 10:00 a.m.\n\n\n\nThe purpose of the Senior Coalition is to offer monthly community education to the retired community.\n\n\n\nThis committee is open to all retired (or age of retirement) Kearney Chamber Members. To inquire about joining this group\, contact Amy Cope at acope@kearneycoc.org or join us for one of our meetings.
X-ALT-DESC;FMTTYPE=text/html:<b style="font-size: 13px\; font-family: Helvetica\, Arial\, sans-serif\;">Chair:</b><span style="font-size: 13px\; font-family: Helvetica\, Arial\, sans-serif\;">&nbsp\;Jackie Purdy</span><br style="font-size: 13px\; font-family: Helvetica\, Arial\, sans-serif\;" />\n<b style="font-size: 13px\; font-family: Helvetica\, Arial\, sans-serif\;">Meeting Schedule:</b><span style="font-size: 13px\; font-family: Helvetica\, Arial\, sans-serif\;">&nbsp\;4th Tuesday of each month at 10:00 a.m.</span><br style="font-size: 13px\; font-family: Helvetica\, Arial\, sans-serif\;" />\n<br style="font-size: 13px\; font-family: Helvetica\, Arial\, sans-serif\;" />\n<span style="font-size: 13px\; font-family: Helvetica\, Arial\, sans-serif\;">The purpose of the Senior Coalition is to offer monthly community education to the retired community.</span><br style="font-size: 13px\; font-family: Helvetica\, Arial\, sans-serif\;" />\n<br style="font-size: 13px\; font-family: Helvetica\, Arial\, sans-serif\;" />\n<span style="font-size: 13px\; font-family: Helvetica\, Arial\, sans-serif\;">This committee is open to all retired (or age of retirement) Kearney Chamber Members. To inquire about joining this group\, contact Amy Cope at&nbsp\;<a href="mailto:acope@kearneycoc.org" style="color: rgb(7\, 130\, 193)\;">acope@kearneycoc.org</a>&nbsp\;</span><span style="font-size: 13px\; font-family: Helvetica\, Arial\, sans-serif\;">or join us for one of our meetings.</span>
LOCATION:Kearney Area Chamber of Commerce
UID:e.1404.19254
SEQUENCE:3
DTSTAMP:20260424T121715Z
URL:https://members.kearneycoc.org/events/details/senior-coalition-19254
END:VEVENT

END:VCALENDAR
