BEGIN:VCALENDAR
VERSION:2.0
PRODID:-//ChamberMaster//Event Calendar 2.0//EN
METHOD:PUBLISH
X-PUBLISHED-TTL:P3D
REFRESH-INTERVAL:P3D
CALSCALE:GREGORIAN
BEGIN:VEVENT
DTSTART:20260407T143000Z
DTEND:20260407T163000Z
X-MICROSOFT-CDO-ALLDAYEVENT:FALSE
SUMMARY:Senior College Class - Astronomy
DESCRIPTION:Explore the wonders of the universe with four UNK Physics and Astronomy faculty as they share the exciting stories behind their research. Discover how scientists search for planets orbiting distant stars\, unravel the birth of massive stars and the way they spark the creation of new ones\, and dive into the powerful nuclear processes that fuel stellar life. We'll also journey across space and time to examine how galaxies form\, grow\, and evolve. Join us for an inspiring look at the science that helps us understand our place in the cosmos.
X-ALT-DESC;FMTTYPE=text/html:<span style="color:rgb(0\, 22\, 41)\; font-family:brother-1816\; font-size:14.4px">Explore the wonders of the universe with four UNK Physics and Astronomy faculty as they share the exciting stories behind their research. Discover how scientists search for planets orbiting distant stars\, unravel the birth of massive stars and the way they spark the creation of new ones\, and dive into the powerful nuclear processes that fuel stellar life. We&rsquo\;ll also journey across space and time to examine how galaxies form\, grow\, and evolve. Join us for an inspiring look at the science that helps us understand our place in the cosmos.</span>
LOCATION:Ockinga Auditorium\, UNK Campus 2505 20th Ave Kearney\, Ne
UID:e.1404.26211
SEQUENCE:3
DTSTAMP:20260426T002726Z
URL:https://members.kearneycoc.org/events/details/senior-college-class-astronomy-04-07-2026-26211
END:VEVENT

END:VCALENDAR
