BEGIN:VCALENDAR
VERSION:2.0
PRODID:-//ChamberMaster//Event Calendar 2.0//EN
METHOD:PUBLISH
X-PUBLISHED-TTL:P3D
REFRESH-INTERVAL:P3D
CALSCALE:GREGORIAN
BEGIN:VEVENT
DTSTART:20260413T183000Z
DTEND:20260413T203000Z
X-MICROSOFT-CDO-ALLDAYEVENT:FALSE
SUMMARY:Senior College Class - First Responders in Central Nebraska: Behind the Scenes
DESCRIPTION:Step behind the scenes of public safety with Theresa Wadkins in this informative and engaging class. You'll hear directly from representatives of city\, county\, and state law enforcement as they share what makes their agencies unique and how they work together to keep communities safe. We'll also explore the vital roles of fire and EMS professionals and learn how these teams respond in moments that matter most. Bring your questions and curiosity this is a rare opportunity to gain insight into the people\, challenges\, and teamwork that power these essential services every day.
X-ALT-DESC;FMTTYPE=text/html:<span style="color:rgb(0\, 22\, 41)\; font-family:brother-1816\; font-size:14.4px">Step behind the scenes of public safety with Theresa Wadkins in this informative and engaging class. You&rsquo\;ll hear directly from representatives of city\, county\, and state law enforcement as they share what makes their agencies unique and how they work together to keep communities safe. We&rsquo\;ll also explore the vital roles of fire and EMS professionals and learn how these teams respond in moments that matter most. Bring your questions and curiosity&mdash\;this is a rare opportunity to gain insight into the people\, challenges\, and teamwork that power these essential services every day.</span>
LOCATION:Kearney Public Library Niobrara Room 2020 1st Avenue Kearney\, Ne
UID:e.1404.26206
SEQUENCE:3
DTSTAMP:20260426T031357Z
URL:https://members.kearneycoc.org/events/details/senior-college-class-first-responders-in-central-nebraska-behind-the-scenes-04-13-2026-26206
END:VEVENT

END:VCALENDAR
