BEGIN:VCALENDAR
VERSION:2.0
PRODID:-//ChamberMaster//Event Calendar 2.0//EN
METHOD:PUBLISH
X-PUBLISHED-TTL:P3D
REFRESH-INTERVAL:P3D
CALSCALE:GREGORIAN
BEGIN:VEVENT
DTSTART:20260416T183000Z
DTEND:20260416T203000Z
X-MICROSOFT-CDO-ALLDAYEVENT:FALSE
SUMMARY:Senior College Class - The History of Rock and Roll
DESCRIPTION:Take a lively journey through the roots and evolution of rock and blues\, from their beginnings in the 1800s to the sounds of today. Through engaging discussions\, readings\, classic recordings\, concerts\, and rich audiovisual presentations\, Dr. Duane Bierman will help this class explores how these uniquely American musical styles developed and why they continue to shape our culture. Along the way\, we'll look at both the musical innovations and the cultural stories that brought rock and blues to life revealing the powerful connections between music\, history\, and identity. This class will not meet on April 2.
X-ALT-DESC;FMTTYPE=text/html:<span style="color:rgb(0\, 22\, 41)\; font-family:brother-1816\; font-size:14.4px">Take a lively journey through the roots and evolution of rock and blues\, from their beginnings in the 1800s to the sounds of today. Through engaging discussions\, readings\, classic recordings\, concerts\, and rich audiovisual presentations\, Dr. Duane Bierman will help this class explores how these uniquely American musical styles developed and why they continue to shape our culture. Along the way\, we&rsquo\;ll look at both the musical innovations and the cultural stories that brought rock and blues to life&mdash\;revealing the powerful connections between music\, history\, and identity. <strong>This class will not meet on April 2</strong>.</span>
LOCATION:Ockinga Auditorium\, UNK Campus 2505 20th Ave Kearney\, Ne
UID:e.1404.26234
SEQUENCE:3
DTSTAMP:20260426T031357Z
URL:https://members.kearneycoc.org/events/details/senior-college-class-the-history-of-rock-and-roll-04-16-2026-26234
END:VEVENT

END:VCALENDAR
