BEGIN:VCALENDAR
VERSION:2.0
PRODID:-//ChamberMaster//Event Calendar 2.0//EN
METHOD:PUBLISH
X-PUBLISHED-TTL:P3D
REFRESH-INTERVAL:P3D
CALSCALE:GREGORIAN
BEGIN:VEVENT
DTSTART:20260407T203000Z
DTEND:20260407T220000Z
X-MICROSOFT-CDO-ALLDAYEVENT:FALSE
SUMMARY:Senior College Class - The Labor Movement in the Gilded Age 1880-1920
DESCRIPTION:Join Daryl Kelley and learn how American society was greatly transformed between 1880 and 1920. The small factory largely powered with human muscle was replaced by sprawling complexes organized by the continuous flow of production\, horse transportation was largely replaced by motorized vehicles\, and cables which made communication across the country possible were some of the important changes faced by Americans. This transformation placed a strain on American institutions. The Labor Movement often described as an upheaval was a cause and an effect of the transformation. We will describe the confrontations and battles of the labor movement and explore the impact of the movement on our society.
X-ALT-DESC;FMTTYPE=text/html:<span style="color:rgb(0\, 22\, 41)\; font-family:brother-1816\; font-size:14.4px">Join Daryl Kelley and learn how American society was greatly transformed between 1880 and 1920. The small factory largely powered with human muscle was replaced by sprawling complexes organized by the continuous flow of production\, horse transportation was largely replaced by motorized vehicles\, and cables which made communication across the country possible were some of the important changes faced by Americans. This transformation placed a strain on American institutions. The Labor Movement often described as an upheaval was a cause and an effect of the transformation. We will describe the confrontations and battles of the labor movement and explore the impact of the movement on our society.</span>
LOCATION:Peterson Activity Center Classroom 2020 11th St Kearney\, Ne
UID:e.1404.26251
SEQUENCE:3
DTSTAMP:20260426T002754Z
URL:https://members.kearneycoc.org/events/details/senior-college-class-the-labor-movement-in-the-gilded-age-1880-1920-04-07-2026-26251
END:VEVENT

END:VCALENDAR
