BEGIN:VCALENDAR
VERSION:2.0
PRODID:-//ChamberMaster//Event Calendar 2.0//EN
METHOD:PUBLISH
X-PUBLISHED-TTL:P3D
REFRESH-INTERVAL:P3D
CALSCALE:GREGORIAN
BEGIN:VEVENT
DTSTART:20210829T190000Z
DTEND:20210829T203000Z
X-MICROSOFT-CDO-ALLDAYEVENT:FALSE
SUMMARY:Senior College Fall Open House
DESCRIPTION:Registration for the Senior College's Fall Semester Classes. A Life-Long Learning opportunity. Classes in Literature\, History\, Science\, Senior Living\, IPhone Photography. Annual Membership $25\, each class $35. Curiosity Never Retires. (www.seniorcollegene.org)
X-ALT-DESC;FMTTYPE=text/html:Registration for the Senior College&#39\;s Fall Semester Classes. A Life-Long Learning opportunity. Classes in Literature\, History\, Science\, Senior Living\, IPhone Photography. Annual Membership $25\, each class $35. Curiosity Never Retires. (www.seniorcollegene.org)
LOCATION:Kearney Public Library - Platte Rooms
UID:e.1404.19364
SEQUENCE:3
DTSTAMP:20260424T035831Z
URL:https://members.kearneycoc.org/events/details/senior-college-fall-open-house-08-29-2021-19364
END:VEVENT

END:VCALENDAR
