BEGIN:VCALENDAR
VERSION:2.0
PRODID:-//ChamberMaster//Event Calendar 2.0//EN
METHOD:PUBLISH
X-PUBLISHED-TTL:P3D
REFRESH-INTERVAL:P3D
CALSCALE:GREGORIAN
BEGIN:VEVENT
DTSTART:20260406T150000Z
DTEND:20260406T170000Z
X-MICROSOFT-CDO-ALLDAYEVENT:FALSE
SUMMARY:Senior College Monday Morning Lecture - Star Trek: Enterprise to Monk to UNK
DESCRIPTION:Step back in time as Ahna Packard shares stories from her years working in Hollywood. For 15 years\, she worked as a set designer in Los Angeles and across the country\, helping bring beloved productions to life. Attendees will enjoy behing-the-scenes photos from Star Trek: Enterprise and Monk and hear was Scott Bakula and Tony Shalhoub are really like off camera. Lecture open to Senior College members and guests.
X-ALT-DESC;FMTTYPE=text/html:<p><span style="font-family:calibri\,sans-serif\; font-size:13.3333px"><font color="#000000">Step back in time as Ahna Packard shares stories from her years working in Hollywood. For 15 years\, she worked as a set designer in Los Angeles and across the country\, helping bring beloved productions to life. Attendees will enjoy behing-the-scenes photos from <em>Star Trek: Enterprise</em></font></span><span style="color:rgb(34\, 34\, 34)\; font-family:calibri\,sans-serif\; font-size:14px">&nbsp\;and <em>Monk </em>and hear was Scott Bakula and Tony Shalhoub are really like off camera.&nbsp\;</span><span style="background-color:transparent\; color:rgb(0\, 0\, 0)\; font-family:calibri\,sans-serif\; font-size:14px">Lecture open to Senior College members and guests.</span></p>\n\n<div>&nbsp\;</div>\n
LOCATION:Niobrara Room at Kearney Public Library 2020 1st Avenue Kearney\, NE
UID:e.1404.26245
SEQUENCE:3
DTSTAMP:20260426T014403Z
URL:https://members.kearneycoc.org/events/details/senior-college-monday-morning-lecture-star-trek-enterprise-to-monk-to-unk-26245
END:VEVENT

END:VCALENDAR
