BEGIN:VCALENDAR
VERSION:2.0
PRODID:-//ChamberMaster//Event Calendar 2.0//EN
METHOD:PUBLISH
X-PUBLISHED-TTL:P3D
REFRESH-INTERVAL:P3D
CALSCALE:GREGORIAN
BEGIN:VEVENT
DTSTART:20260413T150000Z
DTEND:20260413T170000Z
X-MICROSOFT-CDO-ALLDAYEVENT:FALSE
SUMMARY:Senior College Monday Morning Lecture - The State of UNK Athletics
DESCRIPTION:Join Dr. Marc Bauer and gain an inside look at the future of UNK Athletics and the direction of its programs. This presentation will also explain the transfer portal - how it works\, why it matters\, and the impact it is having on student-athletes and competition at UNK. Attendees will leave with a deeper understanding of the challenges and the opportunities shaping Loper athletics today. Lecture open to Senior College members and guests.
X-ALT-DESC;FMTTYPE=text/html:<p><span style="font-family:calibri\,sans-serif\; font-size:13.3333px">Join Dr. Marc Bauer and gain an inside look at the future of UNK Athletics and the direction of its programs. This presentation will also explain the transfer portal - how it works\, why it matters\, and the impact</span><span style="color:rgb(34\, 34\, 34)\; font-family:calibri\,sans-serif\; font-size:14px">&nbsp\;it is having on student-athletes and competition at UNK. Attendees will leave with a deeper understanding of the challenges and the opportunities shaping Loper athletics today.&nbsp\;</span><span style="background-color:transparent\; color:rgb(0\, 0\, 0)\; font-family:calibri\,sans-serif\; font-size:14px">Lecture open to Senior College members and guests.</span></p>\n\n<div>&nbsp\;</div>\n
LOCATION:Niobrara Room at Kearney Public Library 2020 1st Avenue Kearney\, NE
UID:e.1404.26246
SEQUENCE:3
DTSTAMP:20260426T031433Z
URL:https://members.kearneycoc.org/events/details/senior-college-monday-morning-lecture-the-state-of-unk-athletics-26246
END:VEVENT

END:VCALENDAR
