BEGIN:VCALENDAR
VERSION:2.0
PRODID:-//ChamberMaster//Event Calendar 2.0//EN
METHOD:PUBLISH
X-PUBLISHED-TTL:P3D
REFRESH-INTERVAL:P3D
CALSCALE:GREGORIAN
BEGIN:VEVENT
DTSTART:20191110T013000Z
DTEND:20191110T023000Z
X-MICROSOFT-CDO-ALLDAYEVENT:FALSE
SUMMARY:Senior Recital: Jared Sherman\, euphonium
DESCRIPTION:Come 'Join in the Music' as Jared Sherman presents his senior euphonium recital.
X-ALT-DESC;FMTTYPE=text/html:Come &lsquo\;Join in the Music&rsquo\; as Jared Sherman presents his senior euphonium recital.
LOCATION:UNK FAB Recital Hall
UID:e.1404.18235
SEQUENCE:3
DTSTAMP:20260425T150323Z
URL:https://members.kearneycoc.org/events/details/senior-recital-jared-sherman-euphonium-18235
END:VEVENT

END:VCALENDAR
