BEGIN:VCALENDAR
VERSION:2.0
PRODID:-//ChamberMaster//Event Calendar 2.0//EN
METHOD:PUBLISH
X-PUBLISHED-TTL:P3D
REFRESH-INTERVAL:P3D
CALSCALE:GREGORIAN
BEGIN:VEVENT
DTSTART:20150206T010000Z
DTEND:20150206T033000Z
X-MICROSOFT-CDO-ALLDAYEVENT:FALSE
SUMMARY:Seven Brides for Seven Brothers
DESCRIPTION:One of the most popular MGM musicals of the 1950s\, this rollicking\, happy show is set in Oregon during the 1850s. When one of the brothers gets married\, the other six are bound and determined to find their own brides\, even if they have to resort to kidnapping.
X-ALT-DESC;FMTTYPE=text/html:One of the most popular MGM musicals of the 1950s\, this rollicking\, happy show is set in Oregon during the 1850s. When one of the brothers gets married\, the other six are bound and determined to find their own brides\, even if they have to resort to kidnapping.
LOCATION:Merryman Performing Arts Center 225 West 22nd Street
UID:e.1404.5330
SEQUENCE:3
DTSTAMP:20260422T225627Z
URL:https://members.kearneycoc.org/events/details/seven-brides-for-seven-brothers-02-05-2015-5330
END:VEVENT

END:VCALENDAR
