BEGIN:VCALENDAR
VERSION:2.0
PRODID:-//ChamberMaster//Event Calendar 2.0//EN
METHOD:PUBLISH
X-PUBLISHED-TTL:P3D
REFRESH-INTERVAL:P3D
CALSCALE:GREGORIAN
BEGIN:VEVENT
DTSTART:20160319T190000Z
DTEND:20160319T220000Z
X-MICROSOFT-CDO-ALLDAYEVENT:FALSE
SUMMARY:Shamrock Shuffle
DESCRIPTION:New West Orthopedic and Sports Rehabilitation\, the Kearney Family YMCA and NP Realty are proud to sponsor the 5th Annual Shamrock Shuffle March 19th\, 2016! We welcome all age groups to come out and participate in either the Irish 5K (a wee bit longer) or 10K run. AWARDS: Prizes given to all participants\, prizes awarded to the top 3 males & females in each race! 2016 MAKE A WISH RECIPIENT Shaun Johnson\, a 6 year old from Callaway\, was born with Congenital Hypoventilation\, which requires him to be on a ventilator and a pacemaker. His favorite foods are pepperoni pizza and Snickers candy bars. He loves the movie Monsters\, Inc and his favorite class in school is reading. Spending time at the park and playing with his Toy Story toys are a couple of his favorite activities. Meeting a few of those Toy Story characters in person (Buzz\, Woody and Jessie) at Disney World is the wish that will be coming true for Shaun this year. Thank you for helping us make Shaun's wish come true!
X-ALT-DESC;FMTTYPE=text/html:New West Orthopedic and Sports Rehabilitation\, the Kearney Family YMCA and NP Realty are proud to sponsor the 5th Annual Shamrock Shuffle March 19th\, 2016! We welcome all age groups to come out and participate in either the Irish 5K (a wee bit longer) or 10K run. AWARDS: Prizes given to all participants\, prizes awarded to the top 3 males &amp\; females in each race! 2016 MAKE A WISH RECIPIENT Shaun Johnson\, a 6 year old from Callaway\, was born with Congenital Hypoventilation\, which requires him to be on a ventilator and a pacemaker. His favorite foods are pepperoni pizza and Snickers candy bars. He loves the movie Monsters\, Inc and his favorite class in school is reading. Spending time at the park and playing with his Toy Story toys are a couple of his favorite activities. Meeting a few of those Toy Story characters in person (Buzz\, Woody and Jessie) at Disney World is the wish that will be coming true for Shaun this year. Thank you for helping us make Shaun&#39\;s wish come true!
LOCATION:Both races start & finish in the New West parking lot\, located at 2810 W. 35th St.\, Kearney NE.
UID:e.1404.7518
SEQUENCE:3
DTSTAMP:20260421T233841Z
URL:https://members.kearneycoc.org/events/details/shamrock-shuffle-03-19-2016-7518
END:VEVENT

END:VCALENDAR
