BEGIN:VCALENDAR
VERSION:2.0
PRODID:-//ChamberMaster//Event Calendar 2.0//EN
METHOD:PUBLISH
X-PUBLISHED-TTL:P3D
REFRESH-INTERVAL:P3D
CALSCALE:GREGORIAN
BEGIN:VEVENT
DTSTART:20161114T160000Z
DTEND:20161114T170000Z
X-MICROSOFT-CDO-ALLDAYEVENT:FALSE
SUMMARY:Shop 4 Nebraska Campaign Event
DESCRIPTION:Join us and the Nebraska Retail Federation outside of Sporting Edge and CR Toys to learn more about the Shop 4 Nebraska campaign along with the Gift Local Pledge.
X-ALT-DESC;FMTTYPE=text/html:Join us and the Nebraska Retail Federation outside of Sporting Edge and CR Toys to learn more about the Shop 4 Nebraska campaign along with the Gift Local Pledge.
LOCATION:Hilltop Mall
UID:e.1404.9090
SEQUENCE:3
DTSTAMP:20260421T104052Z
URL:https://members.kearneycoc.org/events/details/shop-4-nebraska-campaign-event-9090
END:VEVENT

END:VCALENDAR
