BEGIN:VCALENDAR
VERSION:2.0
PRODID:-//ChamberMaster//Event Calendar 2.0//EN
METHOD:PUBLISH
X-PUBLISHED-TTL:P3D
REFRESH-INTERVAL:P3D
CALSCALE:GREGORIAN
BEGIN:VEVENT
DTSTART:20140412T140000Z
DTEND:20140412T210000Z
X-MICROSOFT-CDO-ALLDAYEVENT:FALSE
SUMMARY:Signs of Spring Craft & Trade Show
DESCRIPTION:Welcome spring and blow the winter stink off at the annual Signs of Spring Craft and Trade Show in Kearney\, NE\, at the Landmark Implement Arena\, Buffalo County Fairgrounds EXPO Building\, on the second Saturday in April\, from 9-4. Over 250 booths of your favorite crafters\, trades\, home-based businesses and every kind of food you can imagine. This show is a non-profit fundraiser for Community Action Partnership of Mid Nebraska's human service programs that help people and change lives in 29 counties. Not one to miss! See our vendors at facebook.com/midshowpromotions. Show Promoter: Kyla Martin. Free parking/admission
X-ALT-DESC;FMTTYPE=text/html:<span style="font-family:calibri\,sans-serif\;"><span style="font-size:11.0pt\;">Welcome spring and blow the winter stink off at the annual Signs of Spring Craft and Trade Show in Kearney\, NE\, at the Landmark Implement Arena\, Buffalo County Fairgrounds EXPO Building\, on the second Saturday in April\, from 9-4. Over 250 booths of your favorite crafters\, trades\, home-based businesses and every kind of food you can imagine. This show is a non-profit fundraiser for Community Action Partnership of Mid Nebraska&#39\;s human service programs that help people and change lives in 29 counties. Not one to miss! See our vendors at <span style="color:#c00000\;">facebook.com/midshowpromotions. Show Promoter: Kyla Martin. Free parking/admission</span></span></span>
LOCATION:3807 Ave N Buffalo County Fairgrounds\, Landmark Implement Arena\, EXPO Kearney\, NE
UID:e.1404.4477
SEQUENCE:3
DTSTAMP:20260423T150025Z
URL:https://members.kearneycoc.org/events/details/signs-of-spring-craft-trade-show-04-12-2014-4477
END:VEVENT

END:VCALENDAR
