BEGIN:VCALENDAR
VERSION:2.0
PRODID:-//ChamberMaster//Event Calendar 2.0//EN
METHOD:PUBLISH
X-PUBLISHED-TTL:P3D
REFRESH-INTERVAL:P3D
CALSCALE:GREGORIAN
BEGIN:VEVENT
DTSTART:20150408T003000Z
DTEND:20150408T023000Z
X-MICROSOFT-CDO-ALLDAYEVENT:FALSE
SUMMARY:Six Appeal-Kearney Concert Association
DESCRIPTION:Swearing off instruments\, the award-winning vocal band Six Appeal takes you on a journey that spans decades of music performing classic oldies\, current chart toppers\, and catchy original tunes\, all sung a cappella.  With over 70 combined years of musical training and experience\, Six Appeal utilizes a diverse arsenal of style and entertainment.
X-ALT-DESC;FMTTYPE=text/html:Swearing off instruments\, the award-winning vocal band Six Appeal takes you on a journey that spans decades of music performing classic oldies\, current chart toppers\, and catchy original tunes\, all sung a cappella. &nbsp\;With over 70 combined years of musical training and experience\, Six Appeal utilizes a diverse arsenal of style and entertainment.
LOCATION:Merryman Performing Arts Center
UID:e.1404.5344
SEQUENCE:3
DTSTAMP:20260422T200417Z
URL:https://members.kearneycoc.org/events/details/six-appeal-kearney-concert-association-04-07-2015-5344
END:VEVENT

END:VCALENDAR
