BEGIN:VCALENDAR
VERSION:2.0
PRODID:-//ChamberMaster//Event Calendar 2.0//EN
METHOD:PUBLISH
X-PUBLISHED-TTL:P3D
REFRESH-INTERVAL:P3D
CALSCALE:GREGORIAN
BEGIN:VEVENT
DTSTART;VALUE=DATE:20201128
DTEND;VALUE=DATE:20201129
TRANSP:TRANSPARENT
X-MICROSOFT-CDO-ALLDAYEVENT:TRUE
SUMMARY:Small Business Saturday on the Bricks
DESCRIPTION:Small Business Saturday is a great day to support the small locally owned businesses in Downtown Kearney. Be sure to stop by the welcome station at Ktown Cakes located at 2300 Central Avenue before you #shopsmall. The first 100 shoppers will get a swag bag full of goodies including a mask and hand sanitizer and an entry in a drawing for a day on the Bricks! If you don't feel comfortable shopping in person\, follow your favorite stores through their social media platforms as many accept phone orders and offer curbside pickup. Many offer online shopping as well. Due to the coronavirus pandemic\, please shop in groups of eight or less\, be socially distant of at least six feet from other groups or people and wear a mask.
X-ALT-DESC;FMTTYPE=text/html:Small Business Saturday is a great day to support the small locally owned businesses in Downtown Kearney. Be sure to stop by the welcome station at Ktown Cakes located at 2300 Central Avenue before you #shopsmall. The first 100 shoppers will get a swag bag full of goodies including a mask and hand sanitizer and an entry in a drawing for a day on the Bricks! If you don&#39\;t feel comfortable shopping in person\, follow your favorite stores through their social media platforms as many accept phone orders and offer curbside pickup. Many offer online shopping as well. Due to the coronavirus pandemic\, please shop in groups of eight or less\, be socially distant of at least six feet from other groups or people and wear a mask.
LOCATION:Downtown Kearney
UID:e.1404.18772
SEQUENCE:3
DTSTAMP:20260424T192036Z
URL:https://members.kearneycoc.org/events/details/small-business-saturday-on-the-bricks-11-28-2020-18772
END:VEVENT

END:VCALENDAR
