BEGIN:VCALENDAR
VERSION:2.0
PRODID:-//ChamberMaster//Event Calendar 2.0//EN
METHOD:PUBLISH
X-PUBLISHED-TTL:P3D
REFRESH-INTERVAL:P3D
CALSCALE:GREGORIAN
BEGIN:VEVENT
DTSTART;VALUE=DATE:20191130
DTEND;VALUE=DATE:20191201
TRANSP:TRANSPARENT
X-MICROSOFT-CDO-ALLDAYEVENT:TRUE
SUMMARY:Small Business Saturday on the Bricks
DESCRIPTION:Small Business Saturday is a great day to love on your small locally owned businesses in Downtown Kearney. Be sure to stop by our welcome station at TRU Cafe\, located at 2100 Central Ave.\, before you #shopsmall. The first 100 shoppers will get a swag bag full of goodies and an entry in a drawing for a day on the Bricks!
X-ALT-DESC;FMTTYPE=text/html:Small Business Saturday is a great day to love on your small locally owned businesses in Downtown Kearney. Be sure to stop by our welcome station at TRU Cafe\, located at 2100 Central Ave.\, before you #shopsmall. The first 100 shoppers will get a swag bag full of goodies and an entry in a drawing for a day on the Bricks!
LOCATION:TRU Cafe 2100 Central Avenue Downtown Kearney
UID:e.1404.18249
SEQUENCE:3
DTSTAMP:20260425T164001Z
URL:https://members.kearneycoc.org/events/details/small-business-saturday-on-the-bricks-18249
END:VEVENT

END:VCALENDAR
