BEGIN:VCALENDAR
VERSION:2.0
PRODID:-//ChamberMaster//Event Calendar 2.0//EN
METHOD:PUBLISH
X-PUBLISHED-TTL:P3D
REFRESH-INTERVAL:P3D
CALSCALE:GREGORIAN
BEGIN:VEVENT
DTSTART;VALUE=DATE:20130829
DTEND;VALUE=DATE:20130830
TRANSP:TRANSPARENT
X-MICROSOFT-CDO-ALLDAYEVENT:TRUE
SUMMARY:Social Media Marketing for Your Business!
DESCRIPTION:Social Media Marketing for Your Business\n\n	\n		Presenter:  Rochelle Edwards\, Lead Web Designer - Intellicom\n	\n		Date:  Thursday\, August 29\n	\n		Time:  Facebook for Business:  8:30-11:00 (Check in at 8)  Pinterest and Google Plus for Business:  1:30-4:00 (Check in at 1)\n	\n		Location:  Kearney Area Chamber of Commerce Board Room 1007 Second Ave.\, Kearney\n	\n		Cost:  $29.00 per session or register for both at the discount rate of $49.00\n	\n		To register:  Contact the Chamber at (308) 237-3101 or lmeans@kearneycoc.org. \n\n\n	 \n\n	Social Media is the future of marketing\, networking and socializing! Learn how your business can take the next step in technology with Facebook\, Pinterest and Google Plus.  Rochelle Edwards\, Lead Web Designer at Intellicom will present two\, 2 1/2 hour seminars to teach you how to apply social media into your business.\n\n	During the Facebook presentation you will learn:      \n\n	\n		How to build your own Facebook business page.\n	\n		The new features that Facebook feels will help your business.\n	\n		Reporting features on Facebook\, what posts people are paying attention to. \n	\n		Applications within Facebook.\n	\n		What content is appropriate for your business page.  Learn what others are doing\, and what is working for them. \n	\n		Facebook sponsored stories\n	\n		What map sites are important with Facebook.\n	\n		Ways to promote your Facebook Ads and posts\n\n\n	Go over your social media check list.  What your business should be using and how often. \n\n	 \n\n	Pinterest for business\n\n	\n		How to use  Pinterest for business\n	\n		How to promote your business on Pinterest\n	\n		How to drive more traffic to your website through Pinterest\n	\n		Build Trust and Loyalty through Pinterest\n	\n		Learn about success stories using Pinterest\n	\n		Add pinit button to your website\n\n\n	Google+ for Business\n\n	\n		How to use  Google+ for business\n	\n		Why Marketers should not overlook Google+\n	\n		Learn about success stories using Google+
X-ALT-DESC;FMTTYPE=text/html:<p style="color: rgb(0\, 0\, 0)\; font-family: Helvetica\, Arial\, sans-serif\;">\n	<strong><span style="font-size: 18px\;">Social Media Marketing for Your Business</span></strong></p>\n<ul style="color: rgb(0\, 0\, 0)\; font-family: Helvetica\, Arial\, sans-serif\;">\n	<li style="list-style-type: square\;">\n		<strong style="font-size: small\;">Presenter:&nbsp\;</strong><span style="font-size: small\;">&nbsp\;Rochelle Edwards\, Lead Web Designer -&nbsp\;Intellicom</span></li>\n	<li style="list-style-type: square\;">\n		<strong style="font-size: small\;">Date: &nbsp\;</strong><span style="font-size: small\;">Thursday\, August 29</span></li>\n	<li style="list-style-type: square\;">\n		<strong style="font-size: small\;">Time:&nbsp\;</strong><span style="font-size: small\;">&nbsp\;Facebook for Business: &nbsp\;8:30-11:00 (Check in at 8) &nbsp\;</span><span style="font-size: small\;">Pinterest&nbsp\;and Google Plus for Business: &nbsp\;1:30-4:00 (Check in at 1)</span></li>\n	<li style="list-style-type: square\;">\n		<strong style="font-size: small\;">Location:</strong><span style="font-size: small\;">&nbsp\;&nbsp\;Kearney Area Chamber of Commerce Board Room 1007 Second Ave.\, Kearney</span></li>\n	<li style="list-style-type: square\;">\n		<strong style="font-size: small\;">Cost: &nbsp\;</strong><span style="font-size: small\;">$29.00 per session or register for both at the discount rate of $49.00</span></li>\n	<li style="list-style-type: square\;">\n		<strong style="font-size: small\;">To register: &nbsp\;C</strong><span style="font-size: small\;">ontact the Chamber at (308) 237-3101 or&nbsp\;<a href="mailto:lmeans@kearneycoc.org" style="text-decoration: none\; color: rgb(0\, 51\, 102)\;">lmeans@kearneycoc.org</a>.&nbsp\;</span></li>\n</ul>\n<p style="color: rgb(0\, 0\, 0)\; font-family: Helvetica\, Arial\, sans-serif\;">\n	&nbsp\;</p>\n<p style="color: rgb(0\, 0\, 0)\; font-family: Helvetica\, Arial\, sans-serif\; margin: 0in 0in 0.0001pt\;">\n	Social Media is the future of marketing\, networking and socializing! Learn how your business can take the next step in technology with Facebook\, Pinterest and Google Plus. &nbsp\;Rochelle Edwards\, Lead Web Designer at Intellicom will present two\, 2 1/2 hour seminars to teach you how to apply social media into your business.</p>\n<p style="color: rgb(0\, 0\, 0)\; font-family: Helvetica\, Arial\, sans-serif\;">\n	<span style="font-size: 13px\;"><strong><span style="text-decoration: underline\;">During the Facebook presentation you will learn:</span>&nbsp\;&nbsp\;&nbsp\;&nbsp\;&nbsp\;&nbsp\;</strong></span></p>\n<ul style="color: rgb(0\, 0\, 0)\; font-family: Helvetica\, Arial\, sans-serif\;">\n	<li style="list-style-type: square\;">\n		<span style="font-size: 13px\;">How to build your own Facebook business page.</span></li>\n	<li style="list-style-type: square\;">\n		<span style="font-size: 13px\;">The new features that Facebook feels will help your business.</span></li>\n	<li style="list-style-type: square\;">\n		<span style="font-size: 13px\;">Reporting features on Facebook\, what posts people are paying attention to.&nbsp\;</span></li>\n	<li style="list-style-type: square\;">\n		<span style="font-size: 13px\;">Applications within Facebook.</span></li>\n	<li style="list-style-type: square\;">\n		<span style="font-size: 13px\;">What content is appropriate for your business page.&nbsp\; Learn what others are doing\, and what is working for them.&nbsp\;</span></li>\n	<li style="list-style-type: square\;">\n		<span style="font-size: 13px\;">Facebook sponsored stories</span></li>\n	<li style="list-style-type: square\;">\n		<span style="font-size: 13px\;">What map sites are important with Facebook.</span></li>\n	<li style="list-style-type: square\;">\n		<span style="font-size: 13px\;">Ways to promote your Facebook Ads and posts</span></li>\n</ul>\n<p style="color: rgb(0\, 0\, 0)\; font-family: Helvetica\, Arial\, sans-serif\;">\n	<span style="font-size: 13px\;">Go over your social media check list.&nbsp\; What your business should be using and how often.&nbsp\;<br />\n	&nbsp\;<br />\n	<strong><span style="text-decoration: underline\;">Pinterest&nbsp\;for business</span></strong></span></p>\n<ul style="color: rgb(0\, 0\, 0)\; font-family: Helvetica\, Arial\, sans-serif\;">\n	<li style="list-style-type: square\;">\n		<span style="font-size: small\;">How to use &nbsp\;Pinterest&nbsp\;for business</span></li>\n	<li style="list-style-type: square\;">\n		<span style="font-size: small\;">How to promote your business on&nbsp\;Pinterest</span></li>\n	<li style="list-style-type: square\;">\n		<span style="font-size: small\;">How to drive more traffic to your website through&nbsp\;Pinterest</span></li>\n	<li style="list-style-type: square\;">\n		<span style="font-size: small\;">Build Trust and Loyalty through&nbsp\;Pinterest</span></li>\n	<li style="list-style-type: square\;">\n		<span style="font-size: small\;">Learn about success stories using&nbsp\;Pinterest</span></li>\n	<li style="list-style-type: square\;">\n		<span style="font-size: small\;">Add&nbsp\;pinit&nbsp\;button to your website</span></li>\n</ul>\n<p style="color: rgb(0\, 51\, 102)\; font-family: Helvetica\, Arial\, sans-serif\; background-color: rgb(245\, 245\, 245)\;">\n	<strong style="color: rgb(0\, 0\, 0)\;"><span style="text-decoration: underline\;">Google+ for Business</span></strong></p>\n<ul style="color: rgb(0\, 0\, 0)\; font-family: Helvetica\, Arial\, sans-serif\;">\n	<li style="list-style-type: square\;">\n		How to use &nbsp\;Google+ for business</li>\n	<li style="list-style-type: square\;">\n		Why Marketers should not overlook Google+</li>\n	<li style="list-style-type: square\;">\n		Learn about success stories using Google+</li>\n</ul>\n
LOCATION:
UID:e.1404.3240
SEQUENCE:3
DTSTAMP:20260424T040134Z
URL:https://members.kearneycoc.org/events/details/social-media-marketing-for-your-business-08-29-2013-3240
END:VEVENT

END:VCALENDAR
