BEGIN:VCALENDAR
VERSION:2.0
PRODID:-//ChamberMaster//Event Calendar 2.0//EN
METHOD:PUBLISH
X-PUBLISHED-TTL:P3D
REFRESH-INTERVAL:P3D
CALSCALE:GREGORIAN
BEGIN:VEVENT
DTSTART:20190523T230000Z
DTEND:20190524T020000Z
X-MICROSOFT-CDO-ALLDAYEVENT:FALSE
SUMMARY:Sounds of Summer
DESCRIPTION:Gather your friends and join in the fun! Enjoy a lovely evening the fourth Thursday of the month with friends at "Sounds of Summer" in MONA's Cliff Hillegass Outdoor Sculpture Garden. We provide the music along with tables and chairs. You are welcome to bring a picnic\, including beverages of your choice! 2019 Schedule Thursday\, May 23   Flatwater Jazz Thursday\, June 27   Shelia Greenland Band Thursday\, July 25   Formerly Three MONA's Cliff Hillegass Sculpture Garden Gate opens at 6:00 p.m.   Music 7:00-9:00 p.m. Contributions are appreciated when we "pass the hat" to keep admission free. Table Sponsorship Want to walk right in and sit right down? You can reserve a table for 10 people for all three Sounds of Summer performances for $500\, or reserve a table for a single performance for just $200.   $500   Table for 10 to all three performances.   $200   Table for 10 to the performance of your choice.
X-ALT-DESC;FMTTYPE=text/html:Gather your friends and join in the fun! Enjoy a lovely evening the fourth Thursday of the month with friends at &ldquo\;Sounds of Summer&rdquo\; in MONA&rsquo\;s Cliff Hillegass Outdoor Sculpture Garden. We provide the music along with tables and chairs. You are welcome to bring a picnic\, including beverages of your choice! 2019 Schedule Thursday\, May 23 &bull\; Flatwater Jazz Thursday\, June 27 &bull\; Shelia Greenland Band Thursday\, July 25 &bull\; Formerly Three MONA&rsquo\;s Cliff Hillegass Sculpture Garden Gate opens at 6:00 p.m. &bull\; Music 7:00-9:00 p.m. Contributions are appreciated when we &ldquo\;pass the hat&rdquo\; to keep admission free. Table Sponsorship Want to walk right in and sit right down? You can reserve a table for 10 people for all three Sounds of Summer performances for $500\, or reserve a table for a single performance for just $200. &bull\; $500 &ndash\; Table for 10 to all three performances. &bull\; $200 &ndash\; Table for 10 to the performance of your choice.
LOCATION:Museum of Nebraska Art 2401 Central Avenue Kearney\, NE 68847 (308) 865-8559
UID:e.1404.16495
SEQUENCE:3
DTSTAMP:20260426T020738Z
URL:https://members.kearneycoc.org/events/details/sounds-of-summer-05-23-2019-16495
END:VEVENT

END:VCALENDAR
