BEGIN:VCALENDAR
VERSION:2.0
PRODID:-//ChamberMaster//Event Calendar 2.0//EN
METHOD:PUBLISH
X-PUBLISHED-TTL:P3D
REFRESH-INTERVAL:P3D
CALSCALE:GREGORIAN
BEGIN:VEVENT
DTSTART:20191205T220000Z
DTEND:20191206T020000Z
X-MICROSOFT-CDO-ALLDAYEVENT:FALSE
SUMMARY:Soup Dinner Nebraska Firefighters Museum
DESCRIPTION:Everyone's favorite soup is back! \n\nDecember 5th we will host our annual 'After Thanksgiving So You Don't Have To Cook' soup dinner! Please take the time to come and support YOUR Nebraska Firefighters Museum & Education Center! In conjuction with the "Give Where You Live" campaign\, we will be offering a free will donation soup dinner and $1 off of admission to the Firefirghters Museum.\n\n\n\nCome on out and enjoy Mom's Soup! Hope to see you there! Serving homemade Chili\, Chicken Noodle and Cheesy Potato Bacon soups.
X-ALT-DESC;FMTTYPE=text/html:Everyone&#39\;s favorite soup is back!&nbsp\;<br />\nDecember 5th we will host our annual &#39\;After Thanksgiving So You Don&#39\;t Have To Cook&#39\; soup dinner! Please take the time to come and support YOUR Nebraska Firefighters Museum &amp\; Education Center! In conjuction with the &quot\;Give Where You Live&quot\; campaign\, we will be offering a free will donation soup dinner and $1 off of admission to the Firefirghters Museum.<br />\n<br />\nCome on out and enjoy Mom&#39\;s Soup! Hope to see you there! Serving homemade Chili\, Chicken Noodle and Cheesy Potato Bacon soups.&nbsp\;
LOCATION:Nebraska Firefighters & Education Center 2834 E 1st Street Kearney\, NE
UID:e.1404.18266
SEQUENCE:3
DTSTAMP:20260425T131125Z
URL:https://members.kearneycoc.org/events/details/soup-dinner-nebraska-firefighters-museum-18266
END:VEVENT

END:VCALENDAR
