BEGIN:VCALENDAR
VERSION:2.0
PRODID:-//ChamberMaster//Event Calendar 2.0//EN
METHOD:PUBLISH
X-PUBLISHED-TTL:P3D
REFRESH-INTERVAL:P3D
CALSCALE:GREGORIAN
BEGIN:VEVENT
DTSTART;VALUE=DATE:20151113
DTEND;VALUE=DATE:20160101
TRANSP:TRANSPARENT
X-MICROSOFT-CDO-ALLDAYEVENT:TRUE
SUMMARY:SpeedConnect Holiday Promotion
DESCRIPTION:Mention Kearney Area Animal Shelter or Kearney Salvation Army when ordering and SpeedConnect will donate $25 to either organization
X-ALT-DESC;FMTTYPE=text/html:Mention Kearney Area Animal Shelter or Kearney Salvation Army when ordering and SpeedConnect will donate $25 to either organization
LOCATION:2715 2nd Ave\, Suite C
UID:e.1404.7075
SEQUENCE:3
DTSTAMP:20260422T052027Z
URL:https://members.kearneycoc.org/events/details/speedconnect-holiday-promotion-11-13-2015-7075
END:VEVENT

END:VCALENDAR
