BEGIN:VCALENDAR
VERSION:2.0
PRODID:-//ChamberMaster//Event Calendar 2.0//EN
METHOD:PUBLISH
X-PUBLISHED-TTL:P3D
REFRESH-INTERVAL:P3D
CALSCALE:GREGORIAN
BEGIN:VEVENT
DTSTART:20220316T130000Z
DTEND:20220316T200000Z
X-MICROSOFT-CDO-ALLDAYEVENT:FALSE
SUMMARY:Spring Break Camps
DESCRIPTION:
X-ALT-DESC;FMTTYPE=text/html:
LOCATION:Kearney Are Children's Museum 5827 4th Avenue\, Kearney\, NE 68845
UID:e.1404.19640
SEQUENCE:3
DTSTAMP:20260423T163110Z
URL:https://members.kearneycoc.org/events/details/spring-break-camps-03-16-2022-19640
END:VEVENT

END:VCALENDAR
