BEGIN:VCALENDAR
VERSION:2.0
PRODID:-//ChamberMaster//Event Calendar 2.0//EN
METHOD:PUBLISH
X-PUBLISHED-TTL:P3D
REFRESH-INTERVAL:P3D
CALSCALE:GREGORIAN
BEGIN:VEVENT
DTSTART:20210430T180000Z
DTEND:20210430T200000Z
X-MICROSOFT-CDO-ALLDAYEVENT:FALSE
SUMMARY:Spring Cleaning Project with USA Communications
DESCRIPTION:Join USA Communications for a community clean up project northeast of Hy-Vee and south of Hy-Vee. Check in with the USA Communications staff in the Hy-Vee parking lot and they will help you get started!
X-ALT-DESC;FMTTYPE=text/html:Join USA Communications for a community clean up project northeast of Hy-Vee and south of Hy-Vee. Check in with the USA Communications staff in the Hy-Vee parking lot and they will help you get started!&nbsp\;
LOCATION:Hy-Vee (clean up the lots northeast of Hy-Vee and south of Hy-Vee).
UID:e.1404.19296
SEQUENCE:3
DTSTAMP:20260424T122342Z
URL:https://members.kearneycoc.org/events/details/spring-cleaning-project-with-usa-communications-19296
END:VEVENT

END:VCALENDAR
