BEGIN:VCALENDAR
VERSION:2.0
PRODID:-//ChamberMaster//Event Calendar 2.0//EN
METHOD:PUBLISH
X-PUBLISHED-TTL:P3D
REFRESH-INTERVAL:P3D
CALSCALE:GREGORIAN
BEGIN:VEVENT
DTSTART:20220312T160000Z
DTEND:20220312T220000Z
X-MICROSOFT-CDO-ALLDAYEVENT:FALSE
SUMMARY:SPRING MARKET at Steinbrink Landscaping
DESCRIPTION:Steinbrink Landscaping & Greenhouses is hosting our first annual Spring Market inside our sunny greenhouse featuring 14 local vendors as well as Girls Scout troops selling their infamous cookies.
X-ALT-DESC;FMTTYPE=text/html:Steinbrink Landscaping &amp\; Greenhouses is hosting our first annual Spring Market inside our sunny greenhouse featuring 14 local vendors as well as Girls Scout troops selling their infamous cookies.
LOCATION:Inside the greenhouse at Steinbrink Landscaping - 2010 30th Ave\, Kearney
UID:e.1404.19655
SEQUENCE:3
DTSTAMP:20260423T145815Z
URL:https://members.kearneycoc.org/events/details/spring-market-at-steinbrink-landscaping-19655
END:VEVENT

END:VCALENDAR
