BEGIN:VCALENDAR
VERSION:2.0
PRODID:-//ChamberMaster//Event Calendar 2.0//EN
METHOD:PUBLISH
X-PUBLISHED-TTL:P3D
REFRESH-INTERVAL:P3D
CALSCALE:GREGORIAN
BEGIN:VEVENT
DTSTART;VALUE=DATE:20190309
DTEND;VALUE=DATE:20190310
TRANSP:TRANSPARENT
X-MICROSOFT-CDO-ALLDAYEVENT:TRUE
SUMMARY:Spring Open House
DESCRIPTION:Come to the Bricks for Downtown Kearney's first ever Spring Open House to see what's new for the season. Be sure to check with individual stores for participation\, hours and sales.
X-ALT-DESC;FMTTYPE=text/html:Come to the Bricks for Downtown Kearney&#39\;s first ever Spring Open House to see what&#39\;s new for the season. Be sure to check with individual stores for participation\, hours and sales.
LOCATION:Downtown Kearney
UID:e.1404.14464
SEQUENCE:3
DTSTAMP:20260426T032347Z
URL:https://members.kearneycoc.org/events/details/spring-open-house-14464
END:VEVENT

END:VCALENDAR
