BEGIN:VCALENDAR
VERSION:2.0
PRODID:-//ChamberMaster//Event Calendar 2.0//EN
METHOD:PUBLISH
X-PUBLISHED-TTL:P3D
REFRESH-INTERVAL:P3D
CALSCALE:GREGORIAN
BEGIN:VEVENT
DTSTART;VALUE=DATE:20210311
DTEND;VALUE=DATE:20210314
TRANSP:TRANSPARENT
X-MICROSOFT-CDO-ALLDAYEVENT:TRUE
SUMMARY:Spring Open House on the Bricks
DESCRIPTION:Hit the Bricks to see what's new in retail this spring! Be sure to check with individual stores for participation\, hours and sales.
X-ALT-DESC;FMTTYPE=text/html:Hit the Bricks to see what&rsquo\;s new in retail this spring! Be sure to check with individual stores for participation\, hours and sales.
LOCATION:Downtown Kearney
UID:e.1404.19232
SEQUENCE:3
DTSTAMP:20260424T122522Z
URL:https://members.kearneycoc.org/events/details/spring-open-house-on-the-bricks-03-11-2021-19232
END:VEVENT

END:VCALENDAR
