BEGIN:VCALENDAR
VERSION:2.0
PRODID:-//ChamberMaster//Event Calendar 2.0//EN
METHOD:PUBLISH
X-PUBLISHED-TTL:P3D
REFRESH-INTERVAL:P3D
CALSCALE:GREGORIAN
BEGIN:VEVENT
DTSTART:20150114T230000Z
DTEND:20150115T040000Z
X-MICROSOFT-CDO-ALLDAYEVENT:FALSE
SUMMARY:Star Wars Launch Party
DESCRIPTION:We would be honored if you would join us...\n\ndown at the Troll's Den for a Star Wars Launch Party\n\ncelebrating Marvel Star Wars #1\n\n\n\nLocation: The Troll's Den \n\n3815 2nd Ave\, Kearney\n\n\n\nFeaturing:\n\n6:00 PM: X-Wing Tournament (100 Points)\n\n1st Place: Joe Quesada Alternate Cover ($75 value)\n\n2nd Place: Alternate Art Star Wars #1 Cover (TBA)\n\nAll Participants will receive an X-Wing Promo Card\n\n\n\n9:00 PM: Star Wars Role Playing Game\n\nCharacter Sheets will be provided. Player who is voted for player's choice of best participant will be awarded an alternate art Joe Quesada Cover ($75 Value).\n\n\n\nStar Wars Imperial Assault Demos All Night\n\n\n\nIncludes: Jawa Juice Refreshments and Star Wars Music!\n\nEntry Fee: Purchase a copy of Star Wars #1 by Marvel (or other comic worth $4.99)\n\n\n\nWe will have additional Star Wars Give-a-Ways and other exclusive launch party prizes!
X-ALT-DESC;FMTTYPE=text/html:We would be honored if you would join us...<br />\ndown at the Troll&#39\;s Den for a Star Wars Launch Party<br />\ncelebrating Marvel Star Wars #1<br />\n<br />\nLocation: The Troll&#39\;s Den&nbsp\;<br />\n3815 2nd Ave\, Kearney<br />\n<br />\nFeaturing:<br />\n6:00 PM: X-Wing Tournament (100 Points)<br />\n1st Place: Joe Quesada Alternate Cover ($75 value)<br />\n2nd Place: Alternate Art Star Wars #1 Cover (TBA)<br />\nAll Participants will receive an X-Wing Promo Card<br />\n<br />\n9:00 PM: Star Wars Role Playing Game<br />\nCharacter Sheets will be provided. Player who is voted for player&#39\;s choice of best participant will be awarded an alternate art Joe Quesada Cover ($75 Value).<br />\n<br />\nStar Wars Imperial Assault Demos All Night<br />\n<br />\nIncludes: Jawa Juice Refreshments and Star Wars Music!<br />\nEntry Fee: Purchase a copy of Star Wars #1 by Marvel (or other comic worth $4.99)<br />\n<br />\nWe will have additional Star Wars Give-a-Ways and other exclusive launch party prizes!
LOCATION:
UID:e.1404.5958
SEQUENCE:3
DTSTAMP:20260422T230047Z
URL:https://members.kearneycoc.org/events/details/star-wars-launch-party-01-14-2015-5958
END:VEVENT

END:VCALENDAR
