BEGIN:VCALENDAR
VERSION:2.0
PRODID:-//ChamberMaster//Event Calendar 2.0//EN
METHOD:PUBLISH
X-PUBLISHED-TTL:P3D
REFRESH-INTERVAL:P3D
CALSCALE:GREGORIAN
BEGIN:VEVENT
DTSTART:20161130T174500Z
DTEND:20161130T210000Z
X-MICROSOFT-CDO-ALLDAYEVENT:FALSE
SUMMARY:State Chamber Economic Outlook Summit
DESCRIPTION:On Nov. 30\, the Nebraska Chamber will host an economic outlook summit at the La Vista Embassy Suites Conference Center (12520 Westport Parkway\, La Vista).  The summit will begin at 11:45 a.m. and conclude by 3 p.m.  Cost to attend is $95 for State Chamber members or $125 for non-Chamber members.  Lunch will be provided.  In addition to a general update on the state's economy\, the event will examine Nebraska's opportunities and challenges in the areas of workforce\, economic development programs and job-creation incentives\, and the use of technology to create more high-paying jobs.  The event is open to the public. More details will be released as speakers are confirmed.  To register early and reserve your spot\, call (402) 474-4422 or e-mail Charlie Volnek at cvolnek@nechamber.com.
X-ALT-DESC;FMTTYPE=text/html:<span style="font-family:arial\,sans-serif\;"><span style="font-size:10pt\;">On Nov. 30\, the Nebraska Chamber will host an economic outlook summit at the La Vista Embassy Suites Conference Center (12520 Westport Parkway\, La Vista). &nbsp\;The summit will begin at 11:45 a.m. and conclude by 3 p.m.&nbsp\; Cost to attend is $95 for State Chamber members or $125 for non-Chamber members.&nbsp\; Lunch will be provided.&nbsp\; In addition to a general update on the state&#39\;s economy\, the event will examine Nebraska&#39\;s opportunities and challenges in the areas of workforce\, economic development programs and job-creation incentives\, and the use of technology to create more high-paying jobs.&nbsp\; The event is open to the public. More details will be released as speakers are confirmed.&nbsp\; To register early and reserve your spot\, call (402) 474-4422 or e-mail Charlie Volnek at <a href="mailto:cvolnek@nechamber.com" target="_blank">cvolnek@nechamber.com</a>.</span></span>
LOCATION:La Vista Embassy Suites 12520 Westport Parkway La Vista\, NE
UID:e.1404.9000
SEQUENCE:3
DTSTAMP:20260421T101746Z
URL:https://members.kearneycoc.org/events/details/state-chamber-economic-outlook-summit-9000
END:VEVENT

END:VCALENDAR
