BEGIN:VCALENDAR
VERSION:2.0
PRODID:-//ChamberMaster//Event Calendar 2.0//EN
METHOD:PUBLISH
X-PUBLISHED-TTL:P3D
REFRESH-INTERVAL:P3D
CALSCALE:GREGORIAN
BEGIN:VEVENT
DTSTART:20150929T130000Z
DTEND:20150929T140000Z
X-MICROSOFT-CDO-ALLDAYEVENT:FALSE
SUMMARY:State Chamber Fall Forum
DESCRIPTION:The Nebraska Chamber of Commerce and Industry will host a Fall Forum in Kearney at the Chamber. Their presentation will help us garner a better understanding of recent legislation and Nebraska's economic climate. This is a great opportunity for employers\, employees\, and community leaders to get a firsthand look at the legislative process\, learn the issues and meet our State Senator and Speaker of the House\, Galen Hadley.
X-ALT-DESC;FMTTYPE=text/html:The Nebraska Chamber of Commerce and Industry will host a Fall Forum in Kearney at the Chamber. Their presentation will help us garner a better understanding of recent legislation and Nebraska&#39\;s economic climate. This is a great opportunity for employers\, employees\, and community leaders to get a firsthand look at the legislative process\, learn the issues and meet our State Senator and Speaker of the House\, Galen Hadley.&nbsp\;
LOCATION:Kearney Chamber Meeting Room 1007 Second Avenue Kearney\, NE 68847
UID:e.1404.6494
SEQUENCE:3
DTSTAMP:20260422T114404Z
URL:https://members.kearneycoc.org/events/details/state-chamber-fall-forum-09-29-2015-6494
END:VEVENT

END:VCALENDAR
