BEGIN:VCALENDAR
VERSION:2.0
PRODID:-//ChamberMaster//Event Calendar 2.0//EN
METHOD:PUBLISH
X-PUBLISHED-TTL:P3D
REFRESH-INTERVAL:P3D
CALSCALE:GREGORIAN
BEGIN:VEVENT
DTSTART:20160407T190000Z
DTEND:20160407T194500Z
X-MICROSOFT-CDO-ALLDAYEVENT:FALSE
SUMMARY:State Chamber Legislative Conference Call
DESCRIPTION:The first day of the Nebraska Legislature's 2016 session (Jan. 6) is just around the corner.  So that local chambers and their members are up-to-date on the latest business-related issues at the State Capitol\, the Nebraska Chamber will offer legislative conference calls. \n\nThe calls will include updates from State Chamber staff and allow time for questions.
X-ALT-DESC;FMTTYPE=text/html:<span style="font-family:arial\,sans-serif\;"><span style="font-size:11.0pt\;">The first day of the Nebraska Legislature&rsquo\;s 2016 session (Jan. 6) is just around the corner.&nbsp\; So that local chambers and their members are up-to-date on the latest business-related issues at the State Capitol\, the Nebraska Chamber will offer legislative conference calls.&nbsp\;</span></span><br />\n<span style="font-family:arial\,sans-serif\;"><span style="font-size:11.0pt\;">T</span></span><span style="font-size:11pt\;"><span style="font-family:arial\,sans-serif\;">he calls will include updates from State Chamber staff and allow time for questions.&nbsp\;</span></span>
LOCATION:Kearney Chamber at 1007 Second Ave in President Marion McDermott's office
UID:e.1404.7241
SEQUENCE:3
DTSTAMP:20260421T214745Z
URL:https://members.kearneycoc.org/events/details/state-chamber-legislative-conference-call-04-07-2016-7241
END:VEVENT

END:VCALENDAR
