BEGIN:VCALENDAR
VERSION:2.0
PRODID:-//ChamberMaster//Event Calendar 2.0//EN
METHOD:PUBLISH
X-PUBLISHED-TTL:P3D
REFRESH-INTERVAL:P3D
CALSCALE:GREGORIAN
BEGIN:VEVENT
DTSTART:20190716T123000Z
DTEND:20190717T220000Z
X-MICROSOFT-CDO-ALLDAYEVENT:FALSE
SUMMARY:Statewide Job Fair
DESCRIPTION:Join us at any branch location (Kearney\, Grand Island\, Columbus\, Norfolk\, and Fremont) July 16th and 17th to connect to industry leading employer job opportunities! Can't make it? Apply online at www.essentialpersonnel.com.
X-ALT-DESC;FMTTYPE=text/html:<span style="color:rgb(29\, 33\, 41)\; font-family:helvetica\,arial\,sans-serif\; font-size:14px">Join us at any branch location (Kearney\, Grand Island\, Columbus\, Norfolk\, and Fremont) July 16th and 17th to connect to industry leading employer job opportunities! Can&#39\;t make it? Apply online at </span><a href="http://www.essentialpersonnel.com/?fbclid=IwAR07BVuaSW4Cv3JfUXe52q-YdJwzBvGR9U_C2URsEL3wgeawKa4eP6AF5jg" rel="nofollow noopener" style="color: rgb(56\, 88\, 152)\; cursor: pointer\; text-decoration-line: none\; font-family: Helvetica\, Arial\, sans-serif\; font-size: 14px\; white-space: pre-wrap\;" target="_blank">www.essentialpersonnel.com.</a>
LOCATION:218 W 25th St Kearney\, NE 68845
UID:e.1404.16574
SEQUENCE:3
DTSTAMP:20260425T212942Z
URL:https://members.kearneycoc.org/events/details/statewide-job-fair-16574
END:VEVENT

END:VCALENDAR
