BEGIN:VCALENDAR
VERSION:2.0
PRODID:-//ChamberMaster//Event Calendar 2.0//EN
METHOD:PUBLISH
X-PUBLISHED-TTL:P3D
REFRESH-INTERVAL:P3D
CALSCALE:GREGORIAN
BEGIN:VEVENT
DTSTART:20150506T003000Z
DTEND:20150506T023000Z
X-MICROSOFT-CDO-ALLDAYEVENT:FALSE
SUMMARY:Stepcrew-Kearney Concert Association
DESCRIPTION:StepCrew is an unbelievable dance production featuring the world's top talents in Irish Stepdancing\, Ottawa Valley Stepdancing and Modern Tap. These dynamic performers both excel in their respective traditional forms of dance and create brand new\, modern fusions of all three styles.  Backed by a four piece band including Celtic vocals and joined by the fiddle playing of three champion fiddlers.  StepCrew simply drips energy!  This is a spectacular show!!!
X-ALT-DESC;FMTTYPE=text/html:StepCrew is an unbelievable dance production featuring the world&#39\;s top talents in Irish Stepdancing\, Ottawa Valley Stepdancing and Modern Tap. These dynamic performers both excel in their respective traditional forms of dance and create brand new\, modern fusions of all three styles. &nbsp\;Backed by a four piece band including Celtic vocals and joined by the fiddle playing of three champion fiddlers. &nbsp\;StepCrew simply drips energy! &nbsp\;This is a spectacular show!!!
LOCATION:Merryman Performing Arts Center
UID:e.1404.5345
SEQUENCE:3
DTSTAMP:20260422T165115Z
URL:https://members.kearneycoc.org/events/details/stepcrew-kearney-concert-association-05-05-2015-5345
END:VEVENT

END:VCALENDAR
