BEGIN:VCALENDAR
VERSION:2.0
PRODID:-//ChamberMaster//Event Calendar 2.0//EN
METHOD:PUBLISH
X-PUBLISHED-TTL:P3D
REFRESH-INTERVAL:P3D
CALSCALE:GREGORIAN
BEGIN:VEVENT
DTSTART:20191019T150000Z
DTEND:20191019T150000Z
X-MICROSOFT-CDO-ALLDAYEVENT:FALSE
SUMMARY:Steps of Support Breast Cancer Walk
DESCRIPTION:Steps of Support for Breast Cancer Walk\n\n10:00 a.m. Yanney Park\, Kearney NE\n\nBring your family and friends and step with us for a powerful mile to support the fighters\, admire the survivors\, and honor the taken. \n\nHot dog meal after walk. Free Will donation.\n\nRegister at 308.293.6025
X-ALT-DESC;FMTTYPE=text/html:Steps of Support for Breast Cancer Walk<br />\n10:00 a.m. Yanney Park\, Kearney NE<br />\nBring your family and friends and step with us for a powerful mile to support the fighters\, admire the survivors\, and honor the taken.&nbsp\;<br />\nHot dog meal after walk. Free Will donation.<br />\nRegister at 308.293.6025
LOCATION:
UID:e.1404.17863
SEQUENCE:3
DTSTAMP:20260425T164005Z
URL:https://members.kearneycoc.org/events/details/steps-of-support-breast-cancer-walk-17863
END:VEVENT

END:VCALENDAR
