BEGIN:VCALENDAR
VERSION:2.0
PRODID:-//ChamberMaster//Event Calendar 2.0//EN
METHOD:PUBLISH
X-PUBLISHED-TTL:P3D
REFRESH-INTERVAL:P3D
CALSCALE:GREGORIAN
BEGIN:VEVENT
DTSTART:20160120T003000Z
DTEND:20160120T020000Z
X-MICROSOFT-CDO-ALLDAYEVENT:FALSE
SUMMARY:Storm Hockey Meet and Greet
DESCRIPTION:The Tri-City Storm Hockey Team will be at Hilltop Mall on Tuesday\, January 19th. Starting at 6:30pm\, players and fans will strut their stuff in a fashion show. After the fashion show player interviews will take place and attendees will have a chance to win prizes. Stop by the event and enter to win Hockey tickets\, mall gift cards\, and items from Old Navy and Claire's! To finish up the event\, the team will be available for pictures and autographs. Storm fans will not want to miss out on this exclusive event!
X-ALT-DESC;FMTTYPE=text/html:The Tri-City Storm Hockey Team will be at Hilltop Mall on Tuesday\, January 19th. Starting at 6:30pm\, players and fans will strut their stuff in a fashion show. After the fashion show player interviews will take place and attendees will have a chance to win prizes. Stop by the event and enter to win Hockey tickets\, mall gift cards\, and items from Old Navy and Claire&#39\;s! To finish up the event\, the team will be available for pictures and autographs. Storm fans will not want to miss out on this exclusive event!
LOCATION:Hilltop Mall 5011 2nd Ave Kearney\, NE 68847
UID:e.1404.7325
SEQUENCE:3
DTSTAMP:20260422T032357Z
URL:https://members.kearneycoc.org/events/details/storm-hockey-meet-and-greet-01-19-2016-7325
END:VEVENT

END:VCALENDAR
