BEGIN:VCALENDAR
VERSION:2.0
PRODID:-//ChamberMaster//Event Calendar 2.0//EN
METHOD:PUBLISH
X-PUBLISHED-TTL:P3D
REFRESH-INTERVAL:P3D
CALSCALE:GREGORIAN
BEGIN:VEVENT
DTSTART:20131031T000500Z
DTEND:20131031T000500Z
X-MICROSOFT-CDO-ALLDAYEVENT:FALSE
SUMMARY:Storm vs. Waterloo - Zombie Night
DESCRIPTION:Zombies come alive at the Storm game. Come out in your best Zombie Halloween Costume and enjoy $1 beers
X-ALT-DESC;FMTTYPE=text/html:Zombies come alive at the Storm game. Come out in your best Zombie Halloween Costume and enjoy $1 beers&nbsp\;&nbsp\;&nbsp\;&nbsp\;&nbsp\;&nbsp\;&nbsp\;&nbsp\;&nbsp\;&nbsp\;&nbsp\;&nbsp\;
LOCATION:Viaero Event Center 609 Platte Road
UID:e.1404.3350
SEQUENCE:3
DTSTAMP:20260424T020714Z
URL:https://members.kearneycoc.org/events/details/storm-vs-waterloo-zombie-night-10-30-2013-3350
END:VEVENT

END:VCALENDAR
