BEGIN:VCALENDAR
VERSION:2.0
PRODID:-//ChamberMaster//Event Calendar 2.0//EN
METHOD:PUBLISH
X-PUBLISHED-TTL:P3D
REFRESH-INTERVAL:P3D
CALSCALE:GREGORIAN
BEGIN:VEVENT
DTSTART:20190617T223000Z
DTEND:20190617T233000Z
X-MICROSOFT-CDO-ALLDAYEVENT:FALSE
SUMMARY:Storybook Walk
DESCRIPTION:STORYBOOK WALK\n\nJune 21 @ 5:30 pm - 6:30 pm at Yanney Heritage Park\n\nFree\n\nJoin us at Yanney Heritage Park or some fun outdoor games and activities that include several storybook stations. This event takes place just North of the Gottschalk Tower at Yanney Park on the grass lawn. Families will also get to mingle with characters from Crane River Theater's production of "You're A Good Man Charlie Brown."\n\n\n\nTo help us know how many people attend the event we are asking you to check in with us at one of our check in points.                                           \n\n\n\nThis is a free event and registration is not required\, however\, we will have two check in points located on the grass lawn. \n\n\n\nChildren will receive a goody bag (while supplies last).
X-ALT-DESC;FMTTYPE=text/html:STORYBOOK WALK<br />\nJune 21 @ 5:30 pm - 6:30 pm at Yanney Heritage Park<br />\nFree<br />\nJoin us at Yanney Heritage Park or some fun outdoor games and activities that include several storybook stations. This event takes place just North of the Gottschalk Tower at Yanney Park on the grass lawn. Families will also get to mingle with characters from Crane River Theater&rsquo\;s production of &ldquo\;You&rsquo\;re A Good Man Charlie Brown.&rdquo\;<br />\n<br />\nTo help us know how many people attend the event we are asking you to check in with us at one of our check in points.&nbsp\; &nbsp\; &nbsp\; &nbsp\; &nbsp\; &nbsp\; &nbsp\; &nbsp\; &nbsp\; &nbsp\; &nbsp\; &nbsp\; &nbsp\; &nbsp\; &nbsp\; &nbsp\; &nbsp\; &nbsp\; &nbsp\; &nbsp\; &nbsp\; &nbsp\;<br />\n<br />\nThis is a free event and registration is not required\, however\, we will have two check in points located on the grass lawn.&nbsp\;<br />\n<br />\nChildren will receive a goody bag (while supplies last).&nbsp\;
LOCATION:Yanney Heritage Park North of the tower on grass lawn
UID:e.1404.16548
SEQUENCE:3
DTSTAMP:20260425T230727Z
URL:https://members.kearneycoc.org/events/details/storybook-walk-16548
END:VEVENT

END:VCALENDAR
