BEGIN:VCALENDAR
VERSION:2.0
PRODID:-//ChamberMaster//Event Calendar 2.0//EN
METHOD:PUBLISH
X-PUBLISHED-TTL:P3D
REFRESH-INTERVAL:P3D
CALSCALE:GREGORIAN
BEGIN:VEVENT
DTSTART:20160824T160000Z
DTEND:20160824T190000Z
X-MICROSOFT-CDO-ALLDAYEVENT:FALSE
SUMMARY:Student Employment Fair
DESCRIPTION:At the beginning of each academic year\, UNK Student Employment Services hosts their annual Student Employment Fair to help incoming freshmen and other UNK students with Work Study eligibility find Work Study positions in the Kearney area. The Student Employment Fair is similar to UNK's career fairs-where students will be able to visit booths being hosted by employers and gather information about possible Work Study positions and other employment opportunities. The fair will take place during Blue & Gold week in the fall of 2016.\n\n\n\nProvided at Fair: \n\n	Tables and chairs\n	Refreshments\n	Parking permit for one vehicle\n\n*Please send no more than two representatives\n\n\n\nThe Setup: Space will be provided for employers and students to interact in a professional manner. There will be some areas available to conduct on-the-spot interviews. \n\n\n\nHow to Register: Go to http://www.unk.edu/offices/ses and click the 'Student Employment Fair Registration' tab located on the right-hand side of the page!\n\n\n\nRegistration Deadline: Friday\, August 12\, 2016\n\nSet-up: Begins at 10:15am\n\nParking: Lot 4 - Just North of the Nebraska Student Union\n\nCheck-In: Enter through the north entrance of the student union: take the elevator to the second floor to find the 'Ponderosa Room' where you can check in.
X-ALT-DESC;FMTTYPE=text/html:At the beginning of each academic year\, UNK Student Employment Services hosts their annual Student Employment Fair to help incoming freshmen and other UNK students with Work Study eligibility find Work Study positions in the Kearney area. The Student Employment Fair is similar to UNK&#39\;s career fairs-where students will be able to visit booths being hosted by employers and gather information about possible Work Study positions and other employment opportunities. The fair will take place during Blue &amp\; Gold week in the fall of 2016.<br />\n<br />\nProvided at Fair:&nbsp\;\n<ul>\n	<li>Tables and chairs</li>\n	<li>Refreshments</li>\n	<li>Parking permit for one vehicle</li>\n</ul>\n*<em>Please send no more than two representatives</em><br />\n<br />\n<strong>The Setup</strong><strong>:</strong>&nbsp\;Space will be provided for employers and students to interact in a professional manner. There will be some areas available to conduct on-the-spot interviews.&nbsp\;<br />\n<br />\n<strong>How to Register:</strong>&nbsp\;Go to http://www.unk.edu/offices/ses and click the &#39\;Student Employment Fair Registration&#39\; tab located on the right-hand side of the page!<br />\n<br />\n<strong>Registration Deadline:</strong>&nbsp\;<em>Friday\, August 12\, 2016</em><br />\n<b style="line-height: 20.8px\;">Set-up:</b><span style="line-height: 20.8px\;">&nbsp\;Begins at 10:</span>15am<br style="line-height: 20.8px\;" />\n<strong style="line-height: 20.8px\;">Parking:</strong><span style="line-height: 20.8px\;">&nbsp\;Lot 4 - Just North of the Nebraska Student Union</span><br style="line-height: 20.8px\;" />\n<strong style="line-height: 20.8px\;">Check-In:</strong><span style="line-height: 20.8px\;">&nbsp\;Enter through the north entrance of the student union: take the elevator to the second floor to find the &#39\;Ponderosa Room&#39\; where you can check in.</span>
LOCATION:UNK Student Union 1013 W. 27th St.
UID:e.1404.8796
SEQUENCE:3
DTSTAMP:20260421T154718Z
URL:https://members.kearneycoc.org/events/details/student-employment-fair-08-24-2016-8796
END:VEVENT

END:VCALENDAR
