BEGIN:VCALENDAR
VERSION:2.0
PRODID:-//ChamberMaster//Event Calendar 2.0//EN
METHOD:PUBLISH
X-PUBLISHED-TTL:P3D
REFRESH-INTERVAL:P3D
CALSCALE:GREGORIAN
BEGIN:VEVENT
DTSTART;VALUE=DATE:20160722
DTEND;VALUE=DATE:20160725
TRANSP:TRANSPARENT
X-MICROSOFT-CDO-ALLDAYEVENT:TRUE
SUMMARY:Stuff The Bus
DESCRIPTION:Stuff The Bus needs school supplies donated for our annual Back-2-School event. Back-2-School event provides over 1\,000 backpacks to students in need of school supplies. Stuff the bus is our way of getting our backpacks filled.
X-ALT-DESC;FMTTYPE=text/html:Stuff The Bus needs school supplies donated for our annual Back-2-School event. Back-2-School event provides over 1\,000 backpacks to students in need of school supplies. Stuff the bus is our way of getting our backpacks filled.
LOCATION:Hilltop Mall Parking Lot
UID:e.1404.8929
SEQUENCE:3
DTSTAMP:20260421T184407Z
URL:https://members.kearneycoc.org/events/details/stuff-the-bus-07-22-2016-8929
END:VEVENT

END:VCALENDAR
