BEGIN:VCALENDAR
VERSION:2.0
PRODID:-//ChamberMaster//Event Calendar 2.0//EN
METHOD:PUBLISH
X-PUBLISHED-TTL:P3D
REFRESH-INTERVAL:P3D
CALSCALE:GREGORIAN
BEGIN:VEVENT
DTSTART:20130427T150000Z
DTEND:20130427T190000Z
X-MICROSOFT-CDO-ALLDAYEVENT:FALSE
SUMMARY:Stuff the Truck
DESCRIPTION:Animal Canned Food Drive\n\nHelp YPN collect enough canned pet food to stuff the animal shleter's truck
X-ALT-DESC;FMTTYPE=text/html:Animal Canned Food Drive<br />\nHelp YPN collect enough canned pet food to stuff the animal shleter&#39\;s truck
LOCATION:Walmart
UID:e.1404.3176
SEQUENCE:3
DTSTAMP:20260424T140537Z
URL:https://members.kearneycoc.org/events/details/stuff-the-truck-04-27-2013-3176
END:VEVENT

END:VCALENDAR
