BEGIN:VCALENDAR
VERSION:2.0
PRODID:-//ChamberMaster//Event Calendar 2.0//EN
METHOD:PUBLISH
X-PUBLISHED-TTL:P3D
REFRESH-INTERVAL:P3D
CALSCALE:GREGORIAN
BEGIN:VEVENT
DTSTART;VALUE=DATE:20150530
DTEND;VALUE=DATE:20150531
TRANSP:TRANSPARENT
X-MICROSOFT-CDO-ALLDAYEVENT:TRUE
SUMMARY:"Stuff the Truck" Animal Shelter Food Drive
DESCRIPTION:Help the Kearney Area Young Professionals collect enough canned pet food and supplies to fill the animal shelter's truck!\n\n\n\nWhy canned food?\n\nCanned food is the highest food expense for the Animal Shelter. Canned food allows the shelter staff to help rescue animals gain weight\, take needed medicine and it also helps build trust between staff and animals.\n\n\n\nWhat kind of food?\n\nThe Shelter is asking for Cat and Kitty canned food at this time as they have an ample supply of canned Dog and Puppy food.\n\n\n\nWhat if I can't make it to Hy-Vee or Family Fresh Market that Day?\n\nPlease feel free to drop off any canned food to the Animal Shelter Prior to or after May 30th\, as all canned food donations will be accepted.
X-ALT-DESC;FMTTYPE=text/html:Help the Kearney Area Young Professionals collect enough canned pet food and supplies to fill the animal shelter&#39\;s truck!<br />\n<br />\n<strong>Why canned food?</strong><br />\nCanned food is the highest food expense for the Animal Shelter. Canned food allows the shelter staff to help rescue animals gain weight\, take needed medicine and it also helps build trust between staff and animals.<br />\n<br />\n<strong>What kind of food?</strong><br />\nThe Shelter is asking for Cat and Kitty canned food at this time as they have an ample supply of canned Dog and Puppy food.<br />\n<br />\n<strong>What if I can&#39\;t make it to Hy-Vee or Family Fresh Market that Day?</strong><br />\nPlease feel free to drop off any canned food to the Animal Shelter Prior to or after May 30th\, as all canned food donations will be accepted.
LOCATION:Hy-Vee & Family Fresh Market
UID:e.1404.6270
SEQUENCE:3
DTSTAMP:20260422T165434Z
URL:https://members.kearneycoc.org/events/details/stuff-the-truck-animal-shelter-food-drive-05-30-2015-6270
END:VEVENT

END:VCALENDAR
