BEGIN:VCALENDAR
VERSION:2.0
PRODID:-//ChamberMaster//Event Calendar 2.0//EN
METHOD:PUBLISH
X-PUBLISHED-TTL:P3D
REFRESH-INTERVAL:P3D
CALSCALE:GREGORIAN
BEGIN:VEVENT
DTSTART:20200625T150000Z
DTEND:20200627T220000Z
X-MICROSOFT-CDO-ALLDAYEVENT:FALSE
SUMMARY:Summer Boutique Hop
DESCRIPTION:Grab your best girls and shop three of Kearney's Hidden Treasures\, Indigo Bungalow\, Real Deals and Shopping Tripp's. There will be special sales and give aways at each boutique! Visit all three locations for a chance to win a gift basket.
X-ALT-DESC;FMTTYPE=text/html:Grab your best girls and shop three of Kearney&#39\;s Hidden Treasures\, Indigo Bungalow\, Real Deals and Shopping Tripp&#39\;s. There will be special sales and give aways at each boutique! Visit all three locations for a chance to win a gift basket.&nbsp\;
LOCATION:Indigo Bungalow\, 2504 US-30 Real Deals\, 2102 E Hwy 30 Shopping Tripp's\, 5915 2nd Ave.\, Ste 1
UID:e.1404.18644
SEQUENCE:3
DTSTAMP:20260425T033625Z
URL:https://members.kearneycoc.org/events/details/summer-boutique-hop-18644
END:VEVENT

END:VCALENDAR
