BEGIN:VCALENDAR
VERSION:2.0
PRODID:-//ChamberMaster//Event Calendar 2.0//EN
METHOD:PUBLISH
X-PUBLISHED-TTL:P3D
REFRESH-INTERVAL:P3D
CALSCALE:GREGORIAN
BEGIN:VEVENT
DTSTART;VALUE=DATE:20190711
DTEND;VALUE=DATE:20190714
TRANSP:TRANSPARENT
X-MICROSOFT-CDO-ALLDAYEVENT:TRUE
SUMMARY:Summer Sidewalk Sales
DESCRIPTION:Hit the Bricks for some sweet savings during Downtown Kearney's annual Summer Sidewalk Sales on Thursday\, July 11th through Saturday\, July 13th. Check with individual stores for participation\, hours and sales.
X-ALT-DESC;FMTTYPE=text/html:Hit the Bricks for some sweet savings during Downtown Kearney&#39\;s annual Summer Sidewalk Sales on Thursday\, July 11th through Saturday\, July 13th. Check with individual stores for participation\, hours and sales.
LOCATION:Downtown Kearney
UID:e.1404.16571
SEQUENCE:3
DTSTAMP:20260425T213202Z
URL:https://members.kearneycoc.org/events/details/summer-sidewalk-sales-07-11-2019-16571
END:VEVENT

END:VCALENDAR
