BEGIN:VCALENDAR
VERSION:2.0
PRODID:-//ChamberMaster//Event Calendar 2.0//EN
METHOD:PUBLISH
X-PUBLISHED-TTL:P3D
REFRESH-INTERVAL:P3D
CALSCALE:GREGORIAN
BEGIN:VEVENT
DTSTART;VALUE=DATE:20200723
DTEND;VALUE=DATE:20200726
TRANSP:TRANSPARENT
X-MICROSOFT-CDO-ALLDAYEVENT:TRUE
SUMMARY:Summer Sidewalk Sales on the Bricks
DESCRIPTION:Hit the Bricks for some sweet savings during Downtown Kearney's annual Summer Sidewalk Sales on Thursday\, July 23rd through Saturday\, July 25th. Check with individual stores for participation\, hours and sales. Also\, please be mindful of current social distancing mandates.
X-ALT-DESC;FMTTYPE=text/html:Hit the Bricks for some sweet savings during Downtown Kearney&rsquo\;s annual Summer Sidewalk Sales on Thursday\, July 23rd through Saturday\, July 25th. Check with individual stores for participation\, hours and sales. Also\, please be mindful of current social distancing mandates.
LOCATION:Downtown Kearney
UID:e.1404.18424
SEQUENCE:3
DTSTAMP:20260425T020521Z
URL:https://members.kearneycoc.org/events/details/summer-sidewalk-sales-on-the-bricks-18424
END:VEVENT

END:VCALENDAR
