BEGIN:VCALENDAR
VERSION:2.0
PRODID:-//ChamberMaster//Event Calendar 2.0//EN
METHOD:PUBLISH
X-PUBLISHED-TTL:P3D
REFRESH-INTERVAL:P3D
CALSCALE:GREGORIAN
BEGIN:VEVENT
DTSTART:20190427T180000Z
DTEND:20190427T200000Z
X-MICROSOFT-CDO-ALLDAYEVENT:FALSE
SUMMARY:Super Hero Day
DESCRIPTION:Come to Downtown Kearney for Super Hero Day on Saturday\, April 27th from 1-3 PM to meet Wonder Woman and Captain America! Your local heroes will be there too - a police officer\, fire fighter and EMT. You'll be able to get autographs\, take pictures and see inside a patrol car\, fire truck and ambulance.
X-ALT-DESC;FMTTYPE=text/html:Come to Downtown Kearney for Super Hero Day on Saturday\, April 27th from 1-3 PM to meet Wonder Woman and Captain America! Your local heroes will be there too - a police officer\, fire fighter and EMT. You&#39\;ll be able to get autographs\, take pictures and see inside a patrol car\, fire truck and ambulance.
LOCATION:Central Avenue\, Downtown Kearney
UID:e.1404.15414
SEQUENCE:3
DTSTAMP:20260426T020537Z
URL:https://members.kearneycoc.org/events/details/super-hero-day-04-27-2019-15414
END:VEVENT

END:VCALENDAR
