BEGIN:VCALENDAR
VERSION:2.0
PRODID:-//ChamberMaster//Event Calendar 2.0//EN
METHOD:PUBLISH
X-PUBLISHED-TTL:P3D
REFRESH-INTERVAL:P3D
CALSCALE:GREGORIAN
BEGIN:VEVENT
DTSTART:20220513T230000Z
DTEND:20220514T013000Z
X-MICROSOFT-CDO-ALLDAYEVENT:FALSE
SUMMARY:Superhero Night! Kids Night Out
DESCRIPTION:Superheroes unite! Children area invited to dress up as their favorite superhero and participate in games that test their skills!\n\n\n\nAges 3-10\n\n\n\nDinner provided - corn dog\, fruit\, cookie.
X-ALT-DESC;FMTTYPE=text/html:<p><strong>Superheroes unite! Children area invited to dress up as their&nbsp\;favorite superhero and participate in games that test their skills!<br />\n<br />\nAges 3-10<br />\n<br />\nDinner provided - c</strong><strong>orn dog\,&nbsp\;</strong><strong>fruit\, cookie.</strong></p>\n
LOCATION:Kearney Area Children's Museum 5827 4th Avenue\, Kearney\, NE 68845
UID:e.1404.19685
SEQUENCE:3
DTSTAMP:20260423T113906Z
URL:https://members.kearneycoc.org/events/details/superhero-night-kids-night-out-19685
END:VEVENT

END:VCALENDAR
