BEGIN:VCALENDAR
VERSION:2.0
PRODID:-//ChamberMaster//Event Calendar 2.0//EN
METHOD:PUBLISH
X-PUBLISHED-TTL:P3D
REFRESH-INTERVAL:P3D
CALSCALE:GREGORIAN
BEGIN:VEVENT
DTSTART:20140722T220000Z
DTEND:20140727T010000Z
X-MICROSOFT-CDO-ALLDAYEVENT:FALSE
SUMMARY:Support the Little League State Champions!
DESCRIPTION:Come out to the following events to support the Kearney Little League All-Stars as they represent the community of Kearney and the state of Nebraska at the Midwest Regional Tournament in Indianapolis August 1st-8th.
X-ALT-DESC;FMTTYPE=text/html:Come out to the following events to support the Kearney Little League All-Stars as they represent the community of Kearney and the state of Nebraska at the Midwest Regional Tournament in Indianapolis August 1st-8th.
LOCATION:Little Ceasar's- July 22nd: 5-8pm Buffalo County Fair Concert-July 24th: 6-9pm. HyVee-July 24th: 11am-1:30pm Anderson Wrecking Demo Derby-July 26th: 5-9pm
UID:e.1404.5167
SEQUENCE:3
DTSTAMP:20260423T113842Z
URL:https://members.kearneycoc.org/events/details/support-the-little-league-state-champions-07-22-2014-5167
END:VEVENT

END:VCALENDAR
