BEGIN:VCALENDAR
VERSION:2.0
PRODID:-//ChamberMaster//Event Calendar 2.0//EN
METHOD:PUBLISH
X-PUBLISHED-TTL:P3D
REFRESH-INTERVAL:P3D
CALSCALE:GREGORIAN
BEGIN:VEVENT
DTSTART;VALUE=DATE:20161019
DTEND;VALUE=DATE:20161020
TRANSP:TRANSPARENT
X-MICROSOFT-CDO-ALLDAYEVENT:TRUE
SUMMARY:Support Your Local Chamber of Commerce Day!
DESCRIPTION:SUPPORT YOUR LOCAL CHAMBER OF COMMERCE DAY\n\nSupport Your Local Chamber of Commerce Day is observed annually on the third Wednesday in October. This is a day to support and honor that organization whose main objective is to give support to local businesses.
X-ALT-DESC;FMTTYPE=text/html:<h3 style="box-sizing: border-box\; margin: 0px\; padding: 0px 0px 10px\; border: 0px\; font-stretch: inherit\; font-size: 20px\; line-height: 1.3em\; font-family: 'Open Sans'\; vertical-align: baseline\; color: rgba(0\, 0\, 0\, 0.74902)\; letter-spacing: 0.5px\; text-transform: uppercase\; background-color: rgb(255\, 255\, 255)\;"><span style="box-sizing: border-box\; margin: 0px\; padding: 0px\; border: 0px\; font-style: inherit\; font-variant: inherit\; font-weight: inherit\; font-stretch: inherit\; font-size: inherit\; line-height: inherit\; font-family: inherit\; vertical-align: baseline\; color: rgb(0\, 0\, 0)\;">SUPPORT YOUR LOCAL CHAMBER OF COMMERCE DAY</span></h3>\n\n<p style="box-sizing: border-box\; margin: 0px 0px 1.6em\; padding: 0px\; border: 0px\; font-stretch: inherit\; font-size: 14px\; line-height: 23.8px\; font-family: 'Open Sans'\, sans-serif\; vertical-align: baseline\; word-break: break-word\; word-wrap: break-word\; background-color: rgb(255\, 255\, 255)\;"><span style="box-sizing: border-box\; margin: 0px\; padding: 0px\; border: 0px\; font-style: inherit\; font-variant: inherit\; font-weight: inherit\; font-stretch: inherit\; font-size: inherit\; line-height: inherit\; font-family: inherit\; vertical-align: baseline\;">Support Your Local Chamber of Commerce Day is observed annually on the third Wednesday in October. This is a day to support and honor that organization whose main objective is to give support to local businesses.</span></p>\n
LOCATION:
UID:e.1404.8742
SEQUENCE:3
DTSTAMP:20260421T122930Z
URL:https://members.kearneycoc.org/events/details/support-your-local-chamber-of-commerce-day-10-19-2016-8742
END:VEVENT

END:VCALENDAR
