BEGIN:VCALENDAR
VERSION:2.0
PRODID:-//ChamberMaster//Event Calendar 2.0//EN
METHOD:PUBLISH
X-PUBLISHED-TTL:P3D
REFRESH-INTERVAL:P3D
CALSCALE:GREGORIAN
BEGIN:VEVENT
DTSTART:20190922T030000Z
DTEND:20190922T060000Z
X-MICROSOFT-CDO-ALLDAYEVENT:FALSE
SUMMARY:SwitchBak Live at JD's!
DESCRIPTION:Come on out and enjoy music from SwitchBak!
X-ALT-DESC;FMTTYPE=text/html:Come on out and enjoy music from SwitchBak!
LOCATION:JD's 2023 1st Ave.
UID:e.1404.17897
SEQUENCE:3
DTSTAMP:20260425T180640Z
URL:https://members.kearneycoc.org/events/details/switchbak-live-at-jd-s-17897
END:VEVENT

END:VCALENDAR
