BEGIN:VCALENDAR
VERSION:2.0
PRODID:-//ChamberMaster//Event Calendar 2.0//EN
METHOD:PUBLISH
X-PUBLISHED-TTL:P3D
REFRESH-INTERVAL:P3D
CALSCALE:GREGORIAN
BEGIN:VEVENT
DTSTART:20130531T210000Z
DTEND:20130531T230000Z
X-MICROSOFT-CDO-ALLDAYEVENT:FALSE
SUMMARY:Sylvan Learning Center Summer Kickoff & iPad Open House
DESCRIPTION:Come to the Sylvan Learning Center in Kearney\, Nebraska to see demonstrations of progams on the iPads\, register to win an iPad\, have a snack\, and the kids will get some other 'goodies' as well!!  We will be here to answer any questions you may have about Sylvan\; come see what we are all about!!
X-ALT-DESC;FMTTYPE=text/html:<p>\n	Come to the Sylvan Learning Center in Kearney\, Nebraska to see demonstrations of progams on the iPads\, register to win an iPad\, have a snack\, and the kids will get some other &#39\;goodies&#39\; as well!!&nbsp\; We will be here to answer any questions you may have about Sylvan\; come see what we are all about!!</p>\n
LOCATION:Kearney Sylvan Learning Center - VIsta Pointe Shopping Mall 5012 3rd Avenue\, Suite 160
UID:e.1404.2465
SEQUENCE:3
DTSTAMP:20260424T103510Z
URL:https://members.kearneycoc.org/events/details/sylvan-learning-center-summer-kickoff-ipad-open-house-05-31-2013-2465
END:VEVENT

END:VCALENDAR
